BEGIN:VCALENDAR
PRODID:-//KinoKlub//iCal4j 1.0//EN
VERSION:2.0
CALSCALE:GREGORIAN
BEGIN:VEVENT
DTSTAMP:20260425T123548Z
DTSTART:20250323T202000Z
DTEND:20250323T220700Z
SUMMARY:Blbý a blbší
UID:20260425T123559Z-1@kinoklub.sk
TZID:Europe/Prague
LOCATION:Špitálska 4\, Bratislava-Staré 
 Mesto (Lumière)
DESCRIPTION:Blbí a blbší boli ľudia aj v
  90. rokoch. A nielen u nás. A trvá to 
 tak doteraz. Dnes už legendárna komédia
  je toho jasným dôkazom a v súčasnosti 
 môže slúžiť nielen ako nostalgická spom
 ienka\, ale aj...\n\nhttps://kinoklub.s
 k/film/7170/blby-a-blbsi
END:VEVENT
END:VCALENDAR
