BEGIN:VCALENDAR
PRODID:-//KinoKlub//iCal4j 1.0//EN
VERSION:2.0
CALSCALE:GREGORIAN
BEGIN:VEVENT
DTSTAMP:20260425T123602Z
DTSTART:20250323T203000Z
DTEND:20250323T220600Z
SUMMARY:Policajt Samuraj
UID:20260425T123603Z-1@kinoklub.sk
TZID:Europe/Prague
LOCATION:Špitálska 4\, Bratislava-Staré 
 Mesto (Lumière)
DESCRIPTION:Zabudnite na The Room\, pric
 hádza Policajt Samurai! Iránsky režisér
  Amir Shervan natočil jeden z najbizarn
 ejších a našťastie aj najzábavnejších f
 ilmov 90. rokov. Jeho veľkým fanúšikom 
 na Letterboxde...\n\nhttps://kinoklub.s
 k/film/7194/policajt-samuraj
END:VEVENT
END:VCALENDAR
