BEGIN:VCALENDAR
PRODID:-//KinoKlub//iCal4j 1.0//EN
VERSION:2.0
CALSCALE:GREGORIAN
BEGIN:VEVENT
DTSTAMP:20260425T123615Z
DTSTART:20250324T144000Z
DTEND:20250324T163900Z
SUMMARY:Ponaučenie
UID:20260425T123622Z-1@kinoklub.sk
TZID:Europe/Prague
LOCATION:Špitálska 4\, Bratislava-Staré 
 Mesto (Lumière)
DESCRIPTION:Mladá učiteľka Juci sa snaží
  priniesť do školy nový\, moderný príst
 up\, zatiaľ čo nováčik Palkó\, ktorý sa
  práve prisťahoval zo zahraničia\, zápa
 sí s rigidným a nekompromisným vzdeláva
 cím systémom. Kon...\n\nhttps://kinoklu
 b.sk/film/7193/ponaucenie
END:VEVENT
END:VCALENDAR
