BEGIN:VCALENDAR
PRODID:-//KinoKlub//iCal4j 1.0//EN
VERSION:2.0
CALSCALE:GREGORIAN
BEGIN:VEVENT
DTSTAMP:20260425T123714Z
DTSTART:20250324T151000Z
DTEND:20250324T170700Z
SUMMARY:Ľudia
UID:20260425T123727Z-1@kinoklub.sk
TZID:Europe/Prague
LOCATION:Špitálska 4\, Bratislava-Staré 
 Mesto (Lumière)
DESCRIPTION:Päť žien\, ktoré spojila voj
 na na Ukrajine – nevidiace dievča\, lek
 árka stojaca pred morálnou dilemou\, tí
 nedžerka snažiaca sa zachrániť svoju se
 stru a matka hľadajúca syna na fronte. 
 Ich osudy sa pre...\n\nhttps://kinoklub
 .sk/film/7186/ludia
END:VEVENT
END:VCALENDAR
