BEGIN:VCALENDAR
PRODID:-//KinoKlub//iCal4j 1.0//EN
VERSION:2.0
CALSCALE:GREGORIAN
BEGIN:VEVENT
DTSTAMP:20260425T123705Z
DTSTART:20250324T172000Z
DTEND:20250324T184500Z
SUMMARY:Rok v živote jednej krajiny
UID:20260425T123714Z-1@kinoklub.sk
TZID:Europe/Prague
LOCATION:Špitálska 4\, Bratislava-Staré 
 Mesto (Lumière)
DESCRIPTION:Dokument Rok v živote jednej
  krajiny od režiséra Tomasza Wolskeho p
 rináša jedinečný pohľad na obdobie stan
 ného práva v Poľsku po 13. decembri 198
 1. Namiesto tradičného rozprávania o re
 presii a utrp...\n\nhttps://kinoklub.sk
 /film/7191/rok-v-zivote-jednej-krajiny
END:VEVENT
END:VCALENDAR
