BEGIN:VCALENDAR
PRODID:-//KinoKlub//iCal4j 1.0//EN
VERSION:2.0
CALSCALE:GREGORIAN
BEGIN:VEVENT
DTSTAMP:20260425T123602Z
DTSTART:20250324T174000Z
DTEND:20250324T191500Z
SUMMARY:Fragmenty ľadu
UID:20260425T123606Z-1@kinoklub.sk
TZID:Europe/Prague
LOCATION:Špitálska 4\, Bratislava-Staré 
 Mesto (Lumière)
DESCRIPTION:Ukrajinský krasokorčuliar My
 khailo Stoianov si v roku 1986 kúpil sv
 oju prvú kameru a začal dokumentovať ni
 elen svoj osobný\, ale aj profesionálny
  život – od každodennosti doma až po kr
 asokorčuliarsk...\n\nhttps://kinoklub.s
 k/film/7179/fragmenty-ladu
END:VEVENT
END:VCALENDAR
