BEGIN:VCALENDAR
PRODID:-//KinoKlub//iCal4j 1.0//EN
VERSION:2.0
CALSCALE:GREGORIAN
BEGIN:VEVENT
DTSTAMP:20260425T123824Z
DTSTART:20250324T190000Z
DTEND:20250324T205000Z
SUMMARY:Demolátor
UID:20260425T123831Z-1@kinoklub.sk
TZID:Europe/Prague
LOCATION:Špitálska 4\, Bratislava-Staré 
 Mesto (Lumière)
DESCRIPTION:Dezolátor? Nie\, Demolátor! 
 Ikonický blockbuster odohrávajúci sa v 
 San Angeles v roku 2032 – dokonalom mes
 te plnom harmónie\, mieru a bezpečnej t
 elepatickej lásky. A majú tu aj autá\, 
 ktoré nápadne pr...\n\nhttps://kinoklub
 .sk/film/7176/demolator
END:VEVENT
END:VCALENDAR
