BEGIN:VCALENDAR
PRODID:-//KinoKlub//iCal4j 1.0//EN
VERSION:2.0
CALSCALE:GREGORIAN
BEGIN:VEVENT
DTSTAMP:20260425T123602Z
DTSTART:20250324T193000Z
DTEND:20250324T205400Z
SUMMARY:O hrdinovi
UID:20260425T123607Z-1@kinoklub.sk
TZID:Europe/Prague
LOCATION:Špitálska 4\, Bratislava-Staré 
 Mesto (Lumière)
DESCRIPTION:O hrdinovi\, provokatívny do
 kument režiséra Piotra Winiewicza\, skú
 ma hranice umelej inteligencie a umenia
 . Inšpirovaný výrokom legendárneho reži
 séra Wernera Herzoga\, ktorý povedal\, 
 že: „Počítač nebu...\n\nhttps://kinoklu
 b.sk/film/7199/o-hrdinovi
END:VEVENT
END:VCALENDAR
