BEGIN:VCALENDAR
PRODID:-//KinoKlub//iCal4j 1.0//EN
VERSION:2.0
CALSCALE:GREGORIAN
BEGIN:VEVENT
DTSTAMP:20260425T123615Z
DTSTART:20250324T194000Z
DTEND:20250324T210900Z
SUMMARY:After Party
UID:20260425T123621Z-1@kinoklub.sk
TZID:Europe/Prague
LOCATION:Špitálska 4\, Bratislava-Staré 
 Mesto (Lumière)
DESCRIPTION:Mladá študentka Jindřiška si
  užíva leto\, kým sa jedno ráno neprebu
 dí po prehýrenej noci v dome plnom exek
 útorov. Dozvie sa\, že jej otec má obro
 vské dlhy a okrem exekútorov\, ktorí za
 bavujú rodinný m...\n\nhttps://kinoklub
 .sk/film/7173/after-party
END:VEVENT
END:VCALENDAR
