BEGIN:VCALENDAR
PRODID:-//KinoKlub//iCal4j 1.0//EN
VERSION:2.0
CALSCALE:GREGORIAN
BEGIN:VEVENT
DTSTAMP:20260425T123714Z
DTSTART:20250325T080000Z
DTEND:20250325T085600Z
SUMMARY:Pásmo krátkych filmov - Spolu je
  svet krajší | MFF FEBIOFEST 2025
UID:20260425T123728Z-1@kinoklub.sk
TZID:Europe/Prague
LOCATION:Špitálska 4\, Bratislava-Staré 
 Mesto (Lumière)
DESCRIPTION:Pásmo krátkych animovaných f
 ilmov pre deti o sile priateľstva. Vese
 lé aj dojímavé príbehy o nachádzaní nov
 ých kamarátov\, prekonávaní strachu z n
 eznámeho a o tom\, ako si užívať spoloč
 né chvíle s pri...\n\nhttps://kinoklub.
 sk/film/7203/pasmo-kratkych-filmov-spol
 u-je-svet-krajsi-mff-febiofest-2025
END:VEVENT
END:VCALENDAR
