BEGIN:VCALENDAR
PRODID:-//KinoKlub//iCal4j 1.0//EN
VERSION:2.0
CALSCALE:GREGORIAN
BEGIN:VEVENT
DTSTAMP:20260425T123458Z
DTSTART:20250325T153000Z
DTEND:20250325T170000Z
SUMMARY:Dialógová polícia
UID:20260425T123503Z-1@kinoklub.sk
TZID:Europe/Prague
LOCATION:Špitálska 4\, Bratislava-Staré 
 Mesto (Lumière)
DESCRIPTION:V dobe narastajúceho politic
 kého napätia a protestov sleduje dokume
 nt Dialógová polícia prácu špeciálnej j
 ednotky švédskej polície\, ktorá sa nam
 iesto donucovacích prostriedkov spolieh
 a výhradne na ...\n\nhttps://kinoklub.s
 k/film/7177/dialogova-policia
END:VEVENT
END:VCALENDAR
