BEGIN:VCALENDAR
PRODID:-//KinoKlub//iCal4j 1.0//EN
VERSION:2.0
CALSCALE:GREGORIAN
BEGIN:VEVENT
DTSTAMP:20260425T123602Z
DTSTART:20250325T173000Z
DTEND:20250325T195000Z
SUMMARY:Pád
UID:20260425T123609Z-1@kinoklub.sk
TZID:Europe/Prague
LOCATION:Špitálska 4\, Bratislava-Staré 
 Mesto (Lumière)
DESCRIPTION:V ére nemého filmu sa zranen
 ý kaskadér Roy Walker (Lee Pace) ocitá 
 v losangeleskej nemocnici\, neschopný c
 hôdze a zlomený nielen fyzicky\, ale aj
  psychicky. Tam sa spriatelí s malou Al
 exandriou (Cati...\n\nhttps://kinoklub.
 sk/film/7196/pad
END:VEVENT
END:VCALENDAR
