BEGIN:VCALENDAR
PRODID:-//KinoKlub//iCal4j 1.0//EN
VERSION:2.0
CALSCALE:GREGORIAN
BEGIN:VEVENT
DTSTAMP:20260425T123448Z
DTSTART:20250325T194000Z
DTEND:20250325T205700Z
SUMMARY:Satan Kingdom Babylon
UID:20260425T123449Z-1@kinoklub.sk
TZID:Europe/Prague
LOCATION:Špitálska 4\, Bratislava-Staré 
 Mesto (Lumière)
DESCRIPTION:Hyperrealistická skúmanie ko
 nšpiračných teórií prostredníctvom nara
 tívov rôznych nenávistných skupín v Ame
 rike. Detektívny príbeh\, ktorý ponúka 
 jednu z možných pravdivých verzií záhad
 ného zmiznutia...\n\nhttps://kinoklub.s
 k/film/7190/satan-kingdom-babylon
END:VEVENT
END:VCALENDAR
