BEGIN:VCALENDAR
PRODID:-//KinoKlub//iCal4j 1.0//EN
VERSION:2.0
CALSCALE:GREGORIAN
BEGIN:VEVENT
DTSTAMP:20260425T123218Z
DTSTART:20250325T203000Z
DTEND:20250325T220100Z
SUMMARY:Kanadská slanina
UID:20260425T123218Z-1@kinoklub.sk
TZID:Europe/Prague
LOCATION:Špitálska 4\, Bratislava-Staré 
 Mesto (Lumière)
DESCRIPTION:USA a Rusko vo vrúcnych vzťa
 hoch? Dav po zuby ozbrojených redneckov
  v uliciach\, ktorí sa neštítia použiť 
 násilie? Americký prezident\, ktorý vyh
 lási vojnu Kanade? Že vám to niečo prip
 omína? Nie\, tot...\n\nhttps://kinoklub
 .sk/film/7183/kanadska-slanina
END:VEVENT
END:VCALENDAR
