BEGIN:VCALENDAR
PRODID:-//KinoKlub//iCal4j 1.0//EN
VERSION:2.0
CALSCALE:GREGORIAN
BEGIN:VEVENT
DTSTAMP:20260425T123548Z
DTSTART:20250319T184500Z
DTEND:20250319T201400Z
SUMMARY:After Party
UID:20260425T123556Z-1@kinoklub.sk
TZID:Europe/Prague
LOCATION:Hviezdoslavovo nám. 17\, Bratis
 lava (Mladosť)
DESCRIPTION:Mladá študentka Jindřiška si
  užíva leto\, kým sa jedno ráno neprebu
 dí po prehýrenej noci v dome plnom exek
 útorov. Dozvie sa\, že jej otec má obro
 vské dlhy a okrem exekútorov\, ktorí za
 bavujú rodinný m...\n\nhttps://kinoklub
 .sk/film/7173/after-party
END:VEVENT
END:VCALENDAR
