BEGIN:VCALENDAR
PRODID:-//KinoKlub//iCal4j 1.0//EN
VERSION:2.0
CALSCALE:GREGORIAN
BEGIN:VEVENT
DTSTAMP:20260425T123458Z
DTSTART:20250321T184500Z
DTEND:20250321T201900Z
SUMMARY:Očný zub
UID:20260425T123502Z-1@kinoklub.sk
TZID:Europe/Prague
LOCATION:Hviezdoslavovo nám. 17\, Bratis
 lava (Mladosť)
DESCRIPTION:V odľahlom dome žije rodina 
 úplne izolovaná od vonkajšieho sveta. O
 tec a matka držia svoje tri dospelé det
 i v zajatí vlastnej reality – učia ich 
 absurdné pravidlá a tvrdia\, že dom môž
 u bezpečne opu...\n\nhttps://kinoklub.s
 k/film/7198/ocny-zub
END:VEVENT
END:VCALENDAR
