BEGIN:VCALENDAR
PRODID:-//KinoKlub//iCal4j 1.0//EN
VERSION:2.0
CALSCALE:GREGORIAN
BEGIN:VEVENT
DTSTAMP:20260425T123602Z
DTSTART:20250322T131500Z
DTEND:20250322T142600Z
SUMMARY:Lišiak a zajka zachraňujú les
UID:20260425T123605Z-1@kinoklub.sk
TZID:Europe/Prague
LOCATION:Hviezdoslavovo nám. 17\, Bratis
 lava (Mladosť)
DESCRIPTION:Nadišiel veľký deň! Bobor Ka
 rol\, najväčší staviteľ medzi bobrami\,
  slávnostne otvára svoje majstrovské di
 elo\, obrovskú priehradu\, ktorú postav
 il so svojimi pomocníkmi. Kým Karol sní
 va o sláve a obdi...\n\nhttps://kinoklu
 b.sk/film/7185/lisiak-a-zajka-zachranuj
 u-les
END:VEVENT
END:VCALENDAR
