BEGIN:VCALENDAR
PRODID:-//KinoKlub//iCal4j 1.0//EN
VERSION:2.0
CALSCALE:GREGORIAN
BEGIN:VEVENT
DTSTAMP:20260425T123448Z
DTSTART:20250323T140000Z
DTEND:20250323T140000Z
SUMMARY:Pásmo krátkych filmov - hurá za 
 dobrodružstvom
UID:20260425T123450Z-1@kinoklub.sk
TZID:Europe/Prague
LOCATION:Hviezdoslavovo nám. 17\, Bratis
 lava (Mladosť)
DESCRIPTION:Pásmo krátkych animovaných f
 ilmov pre deti\, plné priateľstva\, lás
 ky\, dobrodružstva a nečakaných zvratov
 ! Hrdinovia sa vydávajú na úžasné výpra
 vy\, stretávajú neobyčajných kamarátov 
 a zažívajú napína...\n\nhttps://kinoklu
 b.sk/film/7205/pasmo-kratkych-filmov-hu
 ra-za-dobrodruzstvom
END:VEVENT
END:VCALENDAR
