BEGIN:VCALENDAR
PRODID:-//KinoKlub//iCal4j 1.0//EN
VERSION:2.0
CALSCALE:GREGORIAN
BEGIN:VEVENT
DTSTAMP:20260424T003417Z
DTSTART:20260426T150000Z
DTEND:20260426T163600Z
SUMMARY:Sliepka
UID:20260424T003417Z-1@kinoklub.sk
TZID:Europe/Prague
LOCATION:Rovniankova 3\, Bratislava (Art
 kino za zrkadlom)
DESCRIPTION:Sliepka menom Hen utečie z f
 army a vydá sa na neistú cestu neznámym
  svetom. Po putovaní napokon nájde útoč
 isko v kurníku malej rodinnej reštaurác
 ie. Film citlivo a s typickou autorskou
  poetikou maď...\n\nhttps://kinoklub.sk
 /film/7844/sliepka
END:VEVENT
END:VCALENDAR
