BEGIN:VCALENDAR
PRODID:-//KinoKlub//iCal4j 1.0//EN
VERSION:2.0
CALSCALE:GREGORIAN
BEGIN:VEVENT
DTSTAMP:20260424T003340Z
DTSTART:20260424T140000Z
DTEND:20260424T152700Z
SUMMARY:Šampión
UID:20260424T003340Z-1@kinoklub.sk
TZID:Europe/Prague
LOCATION:Špitálska 4\, Bratislava-Staré 
 Mesto (Lumière)
DESCRIPTION:Majstrovstvá sveta v krasoko
 rčuľovaní v roku 1973 v Bratislave boli
  pre komunistické Československo udalos
 ťou mimoriadneho významu. Dnes už vieme
 \, kto vtedy zvíťazil: Ondrej Nepela\, 
 fenomenálny špo...\n\nhttps://kinoklub.
 sk/film/7818/sampion
END:VEVENT
END:VCALENDAR
