BEGIN:VCALENDAR
PRODID:-//KinoKlub//iCal4j 1.0//EN
VERSION:2.0
CALSCALE:GREGORIAN
BEGIN:VEVENT
DTSTAMP:20260425T122428Z
DTSTART:20260429T160000Z
DTEND:20260429T175000Z
SUMMARY:Tanec s medveďom
UID:20260425T122428Z-1@kinoklub.sk
TZID:Europe/Prague
LOCATION:Rovniankova 3\, Bratislava (Art
 kino za zrkadlom)
DESCRIPTION:Intímna dráma Tanec s medveď
 om je emotívnou sondou do partnerského 
 vzťahu vystaveného zásadnej životnej sk
 úške. Citlivo zachytáva okamih\, keď sa
  radosť z očakávaného dieťaťa stretáva 
 so strachom\, n...\n\nhttps://kinoklub.
 sk/film/7849/tanec-s-medvedom
END:VEVENT
END:VCALENDAR
