BEGIN:VCALENDAR
PRODID:-//KinoKlub//iCal4j 1.0//EN
VERSION:2.0
CALSCALE:GREGORIAN
BEGIN:VEVENT
DTSTAMP:20260421T084607Z
DTSTART:20260423T183000Z
DTEND:20260423T193600Z
SUMMARY:Oscar Shorts 2026: animované kra
 ťasy
UID:20260421T084607Z-1@kinoklub.sk
TZID:Europe/Prague
LOCATION:Špitálska 4\, Bratislava-Staré 
 Mesto (Lumière)
DESCRIPTION:Pásmo animovaných krátkych f
 ilmov nominovaných na filmovú cenu Osca
 r 2026.\nPlán do dôchodku (Írsko)\nRéži
 a: John Kelly | Producenti: Andrew Free
 dman\, Julie Murnaghan | Hrajú: Domhnal
 l Gleeson | Ro...\n\nhttps://kinoklub.s
 k/film/7914/oscar-shorts-2026-animovane
 -kratasy
END:VEVENT
END:VCALENDAR
