BEGIN:VCALENDAR
PRODID:-//KinoKlub//iCal4j 1.0//EN
VERSION:2.0
CALSCALE:GREGORIAN
BEGIN:VEVENT
DTSTAMP:20260424T003040Z
DTSTART:20260424T144000Z
DTEND:20260424T155700Z
SUMMARY:Posledný Hebrej z Hlohovca
UID:20260424T003040Z-1@kinoklub.sk
TZID:Europe/Prague
LOCATION:Špitálska 4\, Bratislava-Staré 
 Mesto (Lumière)
DESCRIPTION:Posledný Hebrej z Hlohovca j
 e film o pamäti\, identite a dôsledkoch
  strachu\, ktorý dokázal umlčať stovky 
 ľudí ešte dávno po skončení vojny.\n\nJ
 ozef Neumann\, filmový „posledný Hebrej
  z Hlohovca“\, po...\n\nhttps://kinoklu
 b.sk/film/7842/posledny-hebrej-z-hlohov
 ca
END:VEVENT
END:VCALENDAR
