BEGIN:VCALENDAR
PRODID:-//KinoKlub//iCal4j 1.0//EN
VERSION:2.0
CALSCALE:GREGORIAN
BEGIN:VEVENT
DTSTAMP:20260421T085544Z
DTSTART:20260424T180000Z
DTEND:20260424T194000Z
SUMMARY:Volný hráč
UID:20260421T085544Z-1@kinoklub.sk
TZID:Europe/Prague
LOCATION:Špitálska 4\, Bratislava-Staré 
 Mesto (Lumière)
DESCRIPTION:Osemnásťročný Brahim je tale
 ntovaný futbalista na začiatku kariéry.
  S pomocou bratranca sa chystá podpísať
  svoju prvú profesionálnu zmluvu s Lyon
 om. Do jeho života však vstúpi elitný m
 edzinárodný a...\n\nhttps://kinoklub.sk
 /film/7915/volny-hrac
END:VEVENT
END:VCALENDAR
