BEGIN:VCALENDAR
PRODID:-//KinoKlub//iCal4j 1.0//EN
VERSION:2.0
CALSCALE:GREGORIAN
BEGIN:VEVENT
DTSTAMP:20260422T115853Z
DTSTART:20260430T135500Z
DTEND:20260430T150600Z
SUMMARY:Milota
UID:20260422T115853Z-1@kinoklub.sk
TZID:Europe/Prague
LOCATION:Hviezdoslavovo nám. 17\, Bratis
 lava (Mladosť)
DESCRIPTION:\,\,Cez fotografie som skúma
 la svoje lásky\, cez fotografie príbehu
  som hľadala môj vzťah k deťom\, cez fo
 tografie som sa zabávala a cez fotograf
 ie som hľadala samu seba.'' Film Milota
  je citlivou sond...\n\nhttps://kinoklu
 b.sk/film/7917/milota
END:VEVENT
END:VCALENDAR
