BEGIN:VCALENDAR
PRODID:-//KinoKlub//iCal4j 1.0//EN
VERSION:2.0
CALSCALE:GREGORIAN
BEGIN:VEVENT
DTSTAMP:20260422T114402Z
DTSTART:20260430T173000Z
DTEND:20260430T191900Z
SUMMARY:Diabol nosí Pradu 2
UID:20260422T114402Z-1@kinoklub.sk
TZID:Europe/Prague
LOCATION:Hviezdoslavovo nám. 17\, Bratis
 lava (Mladosť)
DESCRIPTION:Takmer dvadsať rokov po tom\
 , čo stvárnili svoje ikonické úlohy Mir
 andy\, Andy\, Emily a Nigela\, sa Meryl
  Streep\, Anne Hathaway\, Emily Blunt a
  Stanley Tucci vracajú do módnych ulíc 
 New Yorku a elegant...\n\nhttps://kinok
 lub.sk/film/7916/diabol-nosi-pradu-2
END:VEVENT
END:VCALENDAR
