BEGIN:VCALENDAR
PRODID:-//KinoKlub//iCal4j 1.0//EN
VERSION:2.0
CALSCALE:GREGORIAN
BEGIN:VEVENT
DTSTAMP:20260422T115034Z
DTSTART:20260502T150000Z
DTEND:20260502T161100Z
SUMMARY:Milota
UID:20260422T115034Z-1@kinoklub.sk
TZID:Europe/Prague
LOCATION:Rovniankova 3\, Bratislava (Art
 kino za zrkadlom)
DESCRIPTION:\,\,Cez fotografie som skúma
 la svoje lásky\, cez fotografie príbehu
  som hľadala môj vzťah k deťom\, cez fo
 tografie som sa zabávala a cez fotograf
 ie som hľadala samu seba.'' Film Milota
  je citlivou sond...\n\nhttps://kinoklu
 b.sk/film/7917/milota
END:VEVENT
END:VCALENDAR
