BEGIN:VCALENDAR
PRODID:-//KinoKlub//iCal4j 1.0//EN
VERSION:2.0
CALSCALE:GREGORIAN
BEGIN:VEVENT
DTSTAMP:20260422T114610Z
DTSTART:20260502T170000Z
DTEND:20260502T185500Z
SUMMARY:Nedeľa
UID:20260422T114610Z-1@kinoklub.sk
TZID:Europe/Prague
LOCATION:Rovniankova 3\, Bratislava (Art
 kino za zrkadlom)
DESCRIPTION:Intímna rodinná dráma Nedeľa
  rozpráva príbeh o dospievaní\, viere a
  hľadaní svojho miesta vo svete. Sleduj
 e\, ako sa dovtedy pokojné rodinné pros
 tredie mení na priestor napätia\, pochy
 bností a konfron...\n\nhttps://kinoklub
 .sk/film/7918/nedela
END:VEVENT
END:VCALENDAR
