BEGIN:VCALENDAR
PRODID:-//KinoKlub//iCal4j 1.0//EN
VERSION:2.0
CALSCALE:GREGORIAN
BEGIN:VEVENT
DTSTAMP:20260424T084831Z
DTSTART:20260503T130000Z
DTEND:20260503T142800Z
SUMMARY:Arco
UID:20260424T084831Z-1@kinoklub.sk
TZID:Europe/Prague
LOCATION:Rovniankova 3\, Bratislava (Art
 kino za zrkadlom)
DESCRIPTION:Rok 2075. Desaťročná Iris uv
 idí z neba spadnúť chlapca v dúhovom pl
 ášti. Volá sa Arco a pochádza z ďalekej
  budúcnosti\, kde je cestovanie v čase 
 bežné – no pre deti prísne zakázané. Ir
 is ho ukryje v...\n\nhttps://kinoklub.s
 k/film/7824/arco
END:VEVENT
END:VCALENDAR
