BEGIN:VCALENDAR
PRODID:-//KinoKlub//iCal4j 1.0//EN
VERSION:2.0
CALSCALE:GREGORIAN
BEGIN:VEVENT
DTSTAMP:20260425T173902Z
DTSTART:20260501T162000Z
DTEND:20260501T180400Z
SUMMARY:Priehrada
UID:20260425T173903Z-1@kinoklub.sk
TZID:Europe/Prague
LOCATION:Špitálska 4\, Bratislava-Staré 
 Mesto (Lumière)
DESCRIPTION:Filmová dráma z budovania ve
 ľkej priehrady. Pracovníci priehrady\, 
 ktorá má zaistiť elektrifikáciu celého 
 kraja\, potrebujú nutne pomoc od okolit
 ých dedín. Až po usvedčení kulaka\, kto
 rý sabotuje prie...\n\nhttps://kinoklub
 .sk/film/7922/priehrada
END:VEVENT
END:VCALENDAR
