BEGIN:VCALENDAR
PRODID:-//KinoKlub//iCal4j 1.0//EN
VERSION:2.0
CALSCALE:GREGORIAN
BEGIN:VEVENT
DTSTAMP:20260425T174024Z
DTSTART:20260503T140000Z
DTEND:20260503T153300Z
SUMMARY:Turner & Constable
UID:20260425T174024Z-1@kinoklub.sk
TZID:Europe/Prague
LOCATION:Špitálska 4\, Bratislava-Staré 
 Mesto (Lumière)
DESCRIPTION:Dvaja velikáni britského mal
 iarstva – J. M. W. Turner a John Consta
 ble – boli nielen súčasníkmi\, ale aj r
 ivalmi. Každý z nich zachytával meniaci
  sa svet vlastným spôsobom: Constable r
 ealisticky a s...\n\nhttps://kinoklub.s
 k/film/7919/turner-constable
END:VEVENT
END:VCALENDAR
