BEGIN:VCALENDAR
PRODID:-//KinoKlub//iCal4j 1.0//EN
VERSION:2.0
CALSCALE:GREGORIAN
BEGIN:VEVENT
DTSTAMP:20260425T173958Z
DTSTART:20260504T162000Z
DTEND:20260504T172600Z
SUMMARY:Prečo kvitnú? (Kvety na lúke i n
 a výstave) | Rezy krátkym filmom
UID:20260425T173958Z-1@kinoklub.sk
TZID:Europe/Prague
LOCATION:Špitálska 4\, Bratislava-Staré 
 Mesto (Lumière)
DESCRIPTION:Kvety\, ich jarné prebúdzani
 e v prírode alebo mestská výsadba – nap
 ohľad apolitická téma\, ale nie je to c
 elkom tak! V pestrom žánrovom výbere si
 edmych krátkych filmov\, venovaným rast
 linám a kvetom\, ...\n\nhttps://kinoklu
 b.sk/film/7923/preco-kvitnu-kvety-na-lu
 ke-i-na-vystave-rezy-kratkym-filmom
END:VEVENT
END:VCALENDAR
