BEGIN:VCALENDAR
PRODID:-//KinoKlub//iCal4j 1.0//EN
VERSION:2.0
CALSCALE:GREGORIAN
BEGIN:VEVENT
DTSTAMP:20260425T173907Z
DTSTART:20260505T162000Z
DTEND:20260505T175000Z
SUMMARY:Svätý rok
UID:20260425T173907Z-1@kinoklub.sk
TZID:Europe/Prague
LOCATION:Špitálska 4\, Bratislava-Staré 
 Mesto (Lumière)
DESCRIPTION:Tzv. svätý rok je v katolíck
 ej cirkvi zvláštnym rokom odpustenia hr
 iechov\, dlhov a všeobecnej milosti. Tú
 to skutočnosť využije aj ostrieľaný kri
 minálnik zo starej školy Max\, ktorý sp
 olu so svojím s...\n\nhttps://kinoklub.
 sk/film/7920/svaty-rok
END:VEVENT
END:VCALENDAR
