BEGIN:VCALENDAR
PRODID:-//KinoKlub//iCal4j 1.0//EN
VERSION:2.0
CALSCALE:GREGORIAN
BEGIN:VEVENT
DTSTAMP:20260425T173815Z
DTSTART:20260508T162000Z
DTEND:20260508T175100Z
SUMMARY:Dlhý deň umierania
UID:20260425T173815Z-1@kinoklub.sk
TZID:Europe/Prague
LOCATION:Špitálska 4\, Bratislava-Staré 
 Mesto (Lumière)
DESCRIPTION:Film s veľmi príznačným názv
 om nepatrí do skupiny vojnových veľkofi
 lmov\, ktoré oslavujú hrdinstvo\, bojov
 ú slávu\, prípadne popisujú priebeh roz
 hodujúcich bitiek druhej svetovej vojny
 . Nepatrí k nim\,...\n\nhttps://kinoklu
 b.sk/film/7928/dlhy-den-umierania
END:VEVENT
END:VCALENDAR
