BEGIN:VCALENDAR
PRODID:-//KinoKlub//iCal4j 1.0//EN
VERSION:2.0
CALSCALE:GREGORIAN
BEGIN:VEVENT
DTSTAMP:20260425T173902Z
DTSTART:20260509T180000Z
DTEND:20260509T195400Z
SUMMARY:Billie Eilish - Hit Me Hard and 
 Soft: The Tour
UID:20260425T173902Z-1@kinoklub.sk
TZID:Europe/Prague
LOCATION:Špitálska 4\, Bratislava-Staré 
 Mesto (Lumière)
DESCRIPTION:Koncertný film Billie Eilish
  – Hit Me Hard and Soft: The Tour vznik
 ol počas speváčkinho beznádejne vypreda
 ného rovnomenného turné. Vzhľadom na to
 \, že sa o jeho réžiu postaral génius a
  inovátor Jame...\n\nhttps://kinoklub.s
 k/film/7929/billie-eilish-hit-me-hard-a
 nd-soft-the-tour
END:VEVENT
END:VCALENDAR
