BEGIN:VCALENDAR
PRODID:-//KinoKlub//iCal4j 1.0//EN
VERSION:2.0
CALSCALE:GREGORIAN
BEGIN:VEVENT
DTSTAMP:20260425T173845Z
DTSTART:20260512T162000Z
DTEND:20260512T181600Z
SUMMARY:Garderobiér
UID:20260425T173845Z-1@kinoklub.sk
TZID:Europe/Prague
LOCATION:Špitálska 4\, Bratislava-Staré 
 Mesto (Lumière)
DESCRIPTION:Divadelná hra Ronalda Harwoo
 da\, ktorá sa stala predlohou rovnomenn
 ého filmu je zaujímavým pohľadom do ang
 lického divadelného sveta v neľahkej do
 be druhej svetovej vojny. Autor modelov
 al hlavnú post...\n\nhttps://kinoklub.s
 k/film/7927/garderobier
END:VEVENT
END:VCALENDAR
