BEGIN:VCALENDAR
PRODID:-//KinoKlub//iCal4j 1.0//EN
VERSION:2.0
CALSCALE:GREGORIAN
BEGIN:VEVENT
DTSTAMP:20260425T174126Z
DTSTART:20260520T162000Z
DTEND:20260520T180200Z
SUMMARY:Hrať za každú cenu
UID:20260425T174126Z-1@kinoklub.sk
TZID:Europe/Prague
LOCATION:Špitálska 4\, Bratislava-Staré 
 Mesto (Lumière)
DESCRIPTION:V roku 1985 sa v zozname šty
 ridsiatich najlepších maďarských filmov
  za uplynulých štyridsať rokov\, ktorý 
 zostavili maďarskí kritici\, objavili š
 tyri diela režiséra Károlyho Makka (Dni
  čakania\, Dom p...\n\nhttps://kinoklub
 .sk/film/7926/hrat-za-kazdu-cenu
END:VEVENT
END:VCALENDAR
