BEGIN:VCALENDAR
PRODID:-//KinoKlub//iCal4j 1.0//EN
VERSION:2.0
CALSCALE:GREGORIAN
BEGIN:VEVENT
DTSTAMP:20260425T173729Z
DTSTART:20260522T162000Z
DTEND:20260522T181800Z
SUMMARY:Kino Raj
UID:20260425T173730Z-1@kinoklub.sk
TZID:Europe/Prague
LOCATION:Špitálska 4\, Bratislava-Staré 
 Mesto (Lumière)
DESCRIPTION:Úsmevný nostalgický film\, k
 torý si - podobne ako film Splendor od 
 Ettore Scolu – vybral za svoj námet roz
 právanie o sláve a postupnom úpadku vid
 ieckeho kina. Hlavný hrdina\, úspešný r
 ežisér Salvator...\n\nhttps://kinoklub.
 sk/film/7925/kino-raj
END:VEVENT
END:VCALENDAR
