BEGIN:VCALENDAR
PRODID:-//KinoKlub//iCal4j 1.0//EN
VERSION:2.0
CALSCALE:GREGORIAN
BEGIN:VEVENT
DTSTAMP:20260425T174010Z
DTSTART:20260526T162000Z
DTEND:20260526T174300Z
SUMMARY:Náhodný sobáš je možný
UID:20260425T174010Z-1@kinoklub.sk
TZID:Europe/Prague
LOCATION:Špitálska 4\, Bratislava-Staré 
 Mesto (Lumière)
DESCRIPTION:Láska kvitne v každom veku. 
 Aj v tom strednom. A môže sa začať aj i
 nzerátom. Práve takto sa spolu zoznámia
  Paul a Jacqueline. Ona má trochu nezvy
 čajné zamestnanie a on je pedantský úra
 dník\, ale „sy...\n\nhttps://kinoklub.s
 k/film/7924/nahodny-sobas-je-mozny
END:VEVENT
END:VCALENDAR
