BEGIN:VCALENDAR
PRODID:-//KinoKlub//iCal4j 1.0//EN
VERSION:2.0
CALSCALE:GREGORIAN
BEGIN:VEVENT
DTSTAMP:20260425T173845Z
DTSTART:20260527T162000Z
DTEND:20260527T174300Z
SUMMARY:Skleníková Venuša
UID:20260425T173846Z-1@kinoklub.sk
TZID:Europe/Prague
LOCATION:Špitálska 4\, Bratislava-Staré 
 Mesto (Lumière)
DESCRIPTION:Súdobý príbeh mladého biológ
 a\, ktorý po rokoch navštívi rodný podh
 orský kraj a zistí\, že je zničený novo
 vybudovanou chemickou továrňou. Svojim 
 nesúhlasným postojom sa pričiní o rieše
 nie dovtedy zan...\n\nhttps://kinoklub.
 sk/film/7921/sklenikova-venusa
END:VEVENT
END:VCALENDAR
